Package: FeatSeekR Version: 1.6.0 Command: /home/biocbuild/R/R/bin/R CMD check --install=check:FeatSeekR.install-out.txt --library=/home/biocbuild/R/R/site-library --no-vignettes --timings FeatSeekR_1.6.0.tar.gz StartedAt: 2025-02-04 06:59:40 -0000 (Tue, 04 Feb 2025) EndedAt: 2025-02-04 07:02:36 -0000 (Tue, 04 Feb 2025) EllapsedTime: 176.2 seconds RetCode: 0 Status: OK CheckDir: FeatSeekR.Rcheck Warnings: 0