Package: FamAgg Version: 1.34.0 Command: chmod a+r FamAgg -R && F:\biocbuild\bbs-3.20-bioc\R\bin\R.exe CMD build --keep-empty-dirs --no-resave-data FamAgg StartedAt: 2025-03-31 18:52:43 -0400 (Mon, 31 Mar 2025) EndedAt: 2025-03-31 18:56:48 -0400 (Mon, 31 Mar 2025) EllapsedTime: 245.4 seconds RetCode: 0 Status: OK PackageFile: FamAgg_1.34.0.tar.gz PackageFileSize: 939 KiB