Package: FamAgg Version: 1.34.0 Command: /home/biocbuild/bbs-3.20-bioc/R/bin/R CMD build --keep-empty-dirs --no-resave-data --md5 FamAgg StartedAt: 2025-03-31 17:14:30 -0400 (Mon, 31 Mar 2025) EndedAt: 2025-03-31 17:15:34 -0400 (Mon, 31 Mar 2025) EllapsedTime: 64.1 seconds RetCode: 0 Status: OK PackageFile: FamAgg_1.34.0.tar.gz PackageFileSize: 1.958 MiB