Package: FamAgg Version: 1.34.0 Command: /Library/Frameworks/R.framework/Resources/bin/R CMD INSTALL FamAgg StartedAt: 2025-02-10 17:47:46 -0500 (Mon, 10 Feb 2025) EndedAt: 2025-02-10 17:48:00 -0500 (Mon, 10 Feb 2025) EllapsedTime: 14.2 seconds RetCode: 0 Status: OK