Package: FamAgg Version: 1.34.0 Command: /Library/Frameworks/R.framework/Resources/bin/R CMD build --keep-empty-dirs --no-resave-data FamAgg StartedAt: 2025-02-10 23:39:09 -0500 (Mon, 10 Feb 2025) EndedAt: 2025-02-10 23:40:20 -0500 (Mon, 10 Feb 2025) EllapsedTime: 70.7 seconds RetCode: 0 Status: OK PackageFile: FamAgg_1.34.0.tar.gz PackageFileSize: 1.646 MiB