Package: FamAgg Version: 1.34.0 Command: rm -rf FamAgg.buildbin-libdir && mkdir FamAgg.buildbin-libdir && /Users/biocbuild/BBS/utils/build-universal.sh FamAgg_1.34.0.tar.gz /Library/Frameworks/R.framework/Resources/bin/R FamAgg.buildbin-libdir StartedAt: 2025-02-12 15:03:45 -0500 (Wed, 12 Feb 2025) EndedAt: 2025-02-12 15:04:02 -0500 (Wed, 12 Feb 2025) EllapsedTime: 16.9 seconds RetCode: 0 Status: OK PackageFile: FamAgg_1.34.0.tgz PackageFileSize: 2.132 MiB