Package: FRGEpistasis Version: 1.42.0 Command: /home/biocbuild/R/R/bin/R CMD INSTALL FRGEpistasis StartedAt: 2025-01-30 21:08:34 -0000 (Thu, 30 Jan 2025) EndedAt: 2025-01-30 21:08:41 -0000 (Thu, 30 Jan 2025) EllapsedTime: 7.3 seconds RetCode: 0 Status: OK