Package: FRGEpistasis Version: 1.42.0 Command: F:\biocbuild\bbs-3.20-bioc\R\bin\R.exe CMD INSTALL FRGEpistasis StartedAt: 2025-03-31 17:07:54 -0400 (Mon, 31 Mar 2025) EndedAt: 2025-03-31 17:08:13 -0400 (Mon, 31 Mar 2025) EllapsedTime: 18.8 seconds RetCode: 0 Status: OK