Package: FRGEpistasis Version: 1.42.0 Command: F:\biocbuild\bbs-3.20-bioc\R\bin\R.exe CMD check --no-multiarch --install=check:FRGEpistasis.install-out.txt --library=F:\biocbuild\bbs-3.20-bioc\R\library --no-vignettes --timings FRGEpistasis_1.42.0.tar.gz StartedAt: 2025-04-01 01:40:38 -0400 (Tue, 01 Apr 2025) EndedAt: 2025-04-01 01:42:54 -0400 (Tue, 01 Apr 2025) EllapsedTime: 136.1 seconds RetCode: 0 Status: OK CheckDir: FRGEpistasis.Rcheck Warnings: 0