Package: FRGEpistasis Version: 1.42.0 Command: /Library/Frameworks/R.framework/Resources/bin/R CMD INSTALL FRGEpistasis StartedAt: 2025-03-31 16:41:49 -0400 (Mon, 31 Mar 2025) EndedAt: 2025-03-31 16:42:04 -0400 (Mon, 31 Mar 2025) EllapsedTime: 14.3 seconds RetCode: 0 Status: OK