Package: FRASER Version: 2.2.0 Command: /home/biocbuild/R/R/bin/R CMD INSTALL FRASER StartedAt: 2025-03-31 21:03:03 -0000 (Mon, 31 Mar 2025) EndedAt: 2025-03-31 21:04:53 -0000 (Mon, 31 Mar 2025) EllapsedTime: 109.1 seconds RetCode: 0 Status: OK