Package: FRASER Version: 2.2.0 Command: /home/biocbuild/R/R/bin/R CMD build --keep-empty-dirs --no-resave-data FRASER StartedAt: 2025-02-03 23:41:42 -0000 (Mon, 03 Feb 2025) EndedAt: 2025-02-03 23:47:43 -0000 (Mon, 03 Feb 2025) EllapsedTime: 361.1 seconds RetCode: 0 Status: OK PackageFile: FRASER_2.2.0.tar.gz PackageFileSize: 2.057 MiB