Package: FRASER Version: 2.2.0 Command: /home/biocbuild/bbs-3.20-bioc/R/bin/R CMD build --keep-empty-dirs --no-resave-data --md5 FRASER StartedAt: 2025-02-03 17:28:21 -0500 (Mon, 03 Feb 2025) EndedAt: 2025-02-03 17:32:26 -0500 (Mon, 03 Feb 2025) EllapsedTime: 245.4 seconds RetCode: 0 Status: OK PackageFile: FRASER_2.2.0.tar.gz PackageFileSize: 2.522 MiB