Package: FRASER Version: 2.2.0 Command: /Library/Frameworks/R.framework/Resources/bin/R CMD INSTALL FRASER StartedAt: 2025-03-31 16:26:28 -0400 (Mon, 31 Mar 2025) EndedAt: 2025-03-31 16:29:14 -0400 (Mon, 31 Mar 2025) EllapsedTime: 166.4 seconds RetCode: 0 Status: OK