Package: FRASER Version: 2.2.0 Command: /Library/Frameworks/R.framework/Resources/bin/R CMD INSTALL FRASER StartedAt: 2025-02-10 17:51:33 -0500 (Mon, 10 Feb 2025) EndedAt: 2025-02-10 17:53:00 -0500 (Mon, 10 Feb 2025) EllapsedTime: 87.4 seconds RetCode: 0 Status: OK