Package: FRASER Version: 2.2.0 Command: rm -rf FRASER.buildbin-libdir && mkdir FRASER.buildbin-libdir && /Users/biocbuild/BBS/utils/build-universal.sh FRASER_2.2.0.tar.gz /Library/Frameworks/R.framework/Resources/bin/R FRASER.buildbin-libdir StartedAt: 2025-02-05 15:53:52 -0500 (Wed, 05 Feb 2025) EndedAt: 2025-02-05 15:55:26 -0500 (Wed, 05 Feb 2025) EllapsedTime: 94.1 seconds RetCode: 0 Status: OK PackageFile: FRASER_2.2.0.tgz PackageFileSize: 3.31 MiB