Package: FLAMES Version: 2.0.2 Command: /home/biocbuild/bbs-3.20-bioc/R/bin/R CMD check --install=check:FLAMES.install-out.txt --library=/home/biocbuild/bbs-3.20-bioc/R/site-library --timings FLAMES_2.0.2.tar.gz StartedAt: 2025-03-31 22:12:10 -0400 (Mon, 31 Mar 2025) EndedAt: 2025-03-31 22:23:14 -0400 (Mon, 31 Mar 2025) EllapsedTime: 663.8 seconds RetCode: 0 Status: OK CheckDir: FLAMES.Rcheck Warnings: 0