Package: FISHalyseR Version: 1.40.0 Command: /Library/Frameworks/R.framework/Resources/bin/R CMD build --keep-empty-dirs --no-resave-data FISHalyseR StartedAt: 2025-03-31 18:44:19 -0400 (Mon, 31 Mar 2025) EndedAt: 2025-03-31 18:45:02 -0400 (Mon, 31 Mar 2025) EllapsedTime: 43.3 seconds RetCode: 0 Status: OK PackageFile: FISHalyseR_1.40.0.tar.gz PackageFileSize: 781.5 KiB