Package: FGNet Version: 3.40.0 Command: chmod a+r FGNet -R && F:\biocbuild\bbs-3.20-bioc\R\bin\R.exe CMD build --keep-empty-dirs --no-resave-data FGNet StartedAt: 2025-01-30 18:52:54 -0500 (Thu, 30 Jan 2025) EndedAt: 2025-01-30 18:53:29 -0500 (Thu, 30 Jan 2025) EllapsedTime: 34.3 seconds RetCode: 0 Status: OK PackageFile: FGNet_3.40.0.tar.gz PackageFileSize: 2.72 MiB