Package: FELLA Version: 1.26.0 Command: F:\biocbuild\bbs-3.20-bioc\R\bin\R.exe CMD INSTALL FELLA StartedAt: 2025-01-30 15:37:45 -0500 (Thu, 30 Jan 2025) EndedAt: 2025-01-30 15:38:31 -0500 (Thu, 30 Jan 2025) EllapsedTime: 46.7 seconds RetCode: 0 Status: OK