Package: FELLA Version: 1.26.0 Command: /Library/Frameworks/R.framework/Resources/bin/R CMD build --keep-empty-dirs --no-resave-data FELLA StartedAt: 2025-02-03 18:56:31 -0500 (Mon, 03 Feb 2025) EndedAt: 2025-02-03 19:31:57 -0500 (Mon, 03 Feb 2025) EllapsedTime: 2125.9 seconds RetCode: 0 Status: OK PackageFile: FELLA_1.26.0.tar.gz PackageFileSize: 4.315 MiB