Package: FEAST Version: 1.14.0 Command: /Library/Frameworks/R.framework/Resources/bin/R CMD build --keep-empty-dirs --no-resave-data FEAST StartedAt: 2025-03-31 23:28:11 -0400 (Mon, 31 Mar 2025) EndedAt: 2025-03-31 23:29:19 -0400 (Mon, 31 Mar 2025) EllapsedTime: 67.3 seconds RetCode: 0 Status: OK PackageFile: FEAST_1.14.0.tar.gz PackageFileSize: 3.456 MiB