Package: ExpressionAtlas Version: 1.34.0 Command: /home/biocbuild/bbs-3.20-bioc/R/bin/R CMD INSTALL ExpressionAtlas StartedAt: 2025-03-31 15:36:40 -0400 (Mon, 31 Mar 2025) EndedAt: 2025-03-31 15:37:02 -0400 (Mon, 31 Mar 2025) EllapsedTime: 21.6 seconds RetCode: 0 Status: OK