Package: ExpressionAtlas Version: 1.34.0 Command: /home/biocbuild/bbs-3.20-bioc/R/bin/R CMD check --install=check:ExpressionAtlas.install-out.txt --library=/home/biocbuild/bbs-3.20-bioc/R/site-library --timings ExpressionAtlas_1.34.0.tar.gz StartedAt: 2025-02-03 22:18:58 -0500 (Mon, 03 Feb 2025) EndedAt: 2025-02-03 22:22:12 -0500 (Mon, 03 Feb 2025) EllapsedTime: 194.3 seconds RetCode: 0 Status: OK CheckDir: ExpressionAtlas.Rcheck Warnings: 0