Package: ExpressionAtlas Version: 1.34.0 Command: /Library/Frameworks/R.framework/Resources/bin/R CMD INSTALL ExpressionAtlas StartedAt: 2025-01-27 16:01:38 -0500 (Mon, 27 Jan 2025) EndedAt: 2025-01-27 16:02:31 -0500 (Mon, 27 Jan 2025) EllapsedTime: 52.6 seconds RetCode: 0 Status: OK