Package: ExpressionAtlas Version: 1.34.0 Command: /Library/Frameworks/R.framework/Resources/bin/R CMD build --keep-empty-dirs --no-resave-data ExpressionAtlas StartedAt: 2025-01-27 18:56:34 -0500 (Mon, 27 Jan 2025) EndedAt: 2025-01-27 18:57:44 -0500 (Mon, 27 Jan 2025) EllapsedTime: 69.8 seconds RetCode: 0 Status: OK PackageFile: ExpressionAtlas_1.34.0.tar.gz PackageFileSize: 319 KiB