Package: ExpressionAtlas Version: 1.34.0 Command: rm -rf ExpressionAtlas.buildbin-libdir && mkdir ExpressionAtlas.buildbin-libdir && /Users/biocbuild/BBS/utils/build-universal.sh ExpressionAtlas_1.34.0.tar.gz /Library/Frameworks/R.framework/Resources/bin/R ExpressionAtlas.buildbin-libdir StartedAt: 2025-04-02 14:19:23 -0400 (Wed, 02 Apr 2025) EndedAt: 2025-04-02 14:19:52 -0400 (Wed, 02 Apr 2025) EllapsedTime: 29.3 seconds RetCode: 0 Status: OK PackageFile: ExpressionAtlas_1.34.0.tgz PackageFileSize: 346.5 KiB