Package: ExploreModelMatrix Version: 1.18.0 Command: /home/biocbuild/R/R/bin/R CMD INSTALL ExploreModelMatrix StartedAt: 2025-02-03 20:55:09 -0000 (Mon, 03 Feb 2025) EndedAt: 2025-02-03 20:55:21 -0000 (Mon, 03 Feb 2025) EllapsedTime: 11.2 seconds RetCode: 0 Status: OK