Package: ExploreModelMatrix Version: 1.18.0 Command: /home/biocbuild/R/R/bin/R CMD check --install=check:ExploreModelMatrix.install-out.txt --library=/home/biocbuild/R/R/site-library --no-vignettes --timings ExploreModelMatrix_1.18.0.tar.gz StartedAt: 2025-02-04 06:56:30 -0000 (Tue, 04 Feb 2025) EndedAt: 2025-02-04 06:57:45 -0000 (Tue, 04 Feb 2025) EllapsedTime: 75.1 seconds RetCode: 0 Status: OK CheckDir: ExploreModelMatrix.Rcheck Warnings: 0