Package: ExperimentSubset Version: 1.16.0 Command: rm -rf ExperimentSubset.buildbin-libdir && mkdir ExperimentSubset.buildbin-libdir && /Users/biocbuild/BBS/utils/build-universal.sh ExperimentSubset_1.16.0.tar.gz /Library/Frameworks/R.framework/Resources/bin/R ExperimentSubset.buildbin-libdir StartedAt: 2025-04-02 14:19:21 -0400 (Wed, 02 Apr 2025) EndedAt: 2025-04-02 14:20:03 -0400 (Wed, 02 Apr 2025) EllapsedTime: 42.0 seconds RetCode: 0 Status: OK PackageFile: ExperimentSubset_1.16.0.tgz PackageFileSize: 703.5 KiB