Package: ExperimentHubData Version: 1.32.0 Command: /home/biocbuild/R/R/bin/R CMD INSTALL ExperimentHubData StartedAt: 2025-03-31 20:42:07 -0000 (Mon, 31 Mar 2025) EndedAt: 2025-03-31 20:42:59 -0000 (Mon, 31 Mar 2025) EllapsedTime: 51.6 seconds RetCode: 0 Status: OK