Package: ExperimentHubData Version: 1.32.0 Command: /home/biocbuild/R/R/bin/R CMD check --install=check:ExperimentHubData.install-out.txt --library=/home/biocbuild/R/R/site-library --no-vignettes --timings ExperimentHubData_1.32.0.tar.gz StartedAt: 2025-02-04 06:56:17 -0000 (Tue, 04 Feb 2025) EndedAt: 2025-02-04 07:01:42 -0000 (Tue, 04 Feb 2025) EllapsedTime: 325.5 seconds RetCode: 0 Status: WARNINGS CheckDir: ExperimentHubData.Rcheck Warnings: 1