Package: ExperimentHubData Version: 1.32.0 Command: /home/biocbuild/R/R/bin/R CMD build --keep-empty-dirs --no-resave-data ExperimentHubData StartedAt: 2025-02-03 23:32:33 -0000 (Mon, 03 Feb 2025) EndedAt: 2025-02-03 23:33:24 -0000 (Mon, 03 Feb 2025) EllapsedTime: 51.0 seconds RetCode: 0 Status: OK PackageFile: ExperimentHubData_1.32.0.tar.gz PackageFileSize: 247 KiB