Package: ExperimentHubData Version: 1.32.0 Command: rm -rf ExperimentHubData.buildbin-libdir && mkdir ExperimentHubData.buildbin-libdir && F:\biocbuild\bbs-3.20-bioc\R\bin\R.exe CMD INSTALL --build --library=ExperimentHubData.buildbin-libdir ExperimentHubData_1.32.0.tar.gz StartedAt: 2025-04-01 08:10:52 -0400 (Tue, 01 Apr 2025) EndedAt: 2025-04-01 08:11:53 -0400 (Tue, 01 Apr 2025) EllapsedTime: 60.7 seconds RetCode: 0 Status: OK PackageFile: ExperimentHubData_1.32.0.zip PackageFileSize: 519.8 KiB