Package: ExperimentHubData Version: 1.32.0 Command: /home/biocbuild/bbs-3.20-bioc/R/bin/R CMD check --install=check:ExperimentHubData.install-out.txt --library=/home/biocbuild/bbs-3.20-bioc/R/site-library --timings ExperimentHubData_1.32.0.tar.gz StartedAt: 2025-03-31 22:05:54 -0400 (Mon, 31 Mar 2025) EndedAt: 2025-03-31 22:10:20 -0400 (Mon, 31 Mar 2025) EllapsedTime: 266.4 seconds RetCode: 0 Status: WARNINGS CheckDir: ExperimentHubData.Rcheck Warnings: 1