Package: ExperimentHubData Version: 1.32.0 Command: /Library/Frameworks/R.framework/Resources/bin/R CMD check --install=check:ExperimentHubData.install-out.txt --library=/Library/Frameworks/R.framework/Resources/library --no-vignettes --timings ExperimentHubData_1.32.0.tar.gz StartedAt: 2025-04-01 02:53:42 -0400 (Tue, 01 Apr 2025) EndedAt: 2025-04-01 03:03:04 -0400 (Tue, 01 Apr 2025) EllapsedTime: 561.5 seconds RetCode: 0 Status: WARNINGS CheckDir: ExperimentHubData.Rcheck Warnings: 1