Package: ExperimentHub Version: 2.14.0 Command: chmod a+r ExperimentHub -R && F:\biocbuild\bbs-3.20-bioc\R\bin\R.exe CMD build --keep-empty-dirs --no-resave-data ExperimentHub StartedAt: 2025-03-31 18:51:10 -0400 (Mon, 31 Mar 2025) EndedAt: 2025-03-31 18:51:51 -0400 (Mon, 31 Mar 2025) EllapsedTime: 40.4 seconds RetCode: 0 Status: OK PackageFile: ExperimentHub_2.14.0.tar.gz PackageFileSize: 489 KiB