Package: ExperimentHub Version: 2.14.0 Command: rm -rf ExperimentHub.buildbin-libdir && mkdir ExperimentHub.buildbin-libdir && F:\biocbuild\bbs-3.20-bioc\R\bin\R.exe CMD INSTALL --build --library=ExperimentHub.buildbin-libdir ExperimentHub_2.14.0.tar.gz StartedAt: 2025-04-01 08:10:50 -0400 (Tue, 01 Apr 2025) EndedAt: 2025-04-01 08:11:12 -0400 (Tue, 01 Apr 2025) EllapsedTime: 22.0 seconds RetCode: 0 Status: OK PackageFile: ExperimentHub_2.14.0.zip PackageFileSize: 425.3 KiB