Package: ExperimentHub Version: 2.14.0 Command: /home/biocbuild/bbs-3.20-bioc/R/bin/R CMD INSTALL ExperimentHub StartedAt: 2025-01-27 16:10:02 -0500 (Mon, 27 Jan 2025) EndedAt: 2025-01-27 16:10:16 -0500 (Mon, 27 Jan 2025) EllapsedTime: 13.7 seconds RetCode: 0 Status: OK