Package: ExperimentHub Version: 2.14.0 Command: /home/biocbuild/bbs-3.20-bioc/R/bin/R CMD check --install=check:ExperimentHub.install-out.txt --library=/home/biocbuild/bbs-3.20-bioc/R/site-library --timings ExperimentHub_2.14.0.tar.gz StartedAt: 2025-01-27 23:02:39 -0500 (Mon, 27 Jan 2025) EndedAt: 2025-01-27 23:04:37 -0500 (Mon, 27 Jan 2025) EllapsedTime: 118.1 seconds RetCode: 0 Status: WARNINGS CheckDir: ExperimentHub.Rcheck Warnings: 1