Package: ExperimentHub Version: 2.14.0 Command: /home/biocbuild/bbs-3.20-bioc/R/bin/R CMD build --keep-empty-dirs --no-resave-data --md5 ExperimentHub StartedAt: 2025-01-27 18:08:56 -0500 (Mon, 27 Jan 2025) EndedAt: 2025-01-27 18:09:27 -0500 (Mon, 27 Jan 2025) EllapsedTime: 31.3 seconds RetCode: 0 Status: OK PackageFile: ExperimentHub_2.14.0.tar.gz PackageFileSize: 489.5 KiB