Package: ExperimentHub Version: 2.14.0 Command: /Library/Frameworks/R.framework/Resources/bin/R CMD INSTALL ExperimentHub StartedAt: 2025-01-27 15:34:10 -0500 (Mon, 27 Jan 2025) EndedAt: 2025-01-27 15:34:43 -0500 (Mon, 27 Jan 2025) EllapsedTime: 32.6 seconds RetCode: 0 Status: OK