Package: ExperimentHub Version: 2.14.0 Command: /Library/Frameworks/R.framework/Resources/bin/R CMD INSTALL ExperimentHub StartedAt: 2025-03-31 15:44:36 -0400 (Mon, 31 Mar 2025) EndedAt: 2025-03-31 15:44:52 -0400 (Mon, 31 Mar 2025) EllapsedTime: 16.7 seconds RetCode: 0 Status: OK