Package: ExperimentHub Version: 2.14.0 Command: /Library/Frameworks/R.framework/Resources/bin/R CMD build --keep-empty-dirs --no-resave-data ExperimentHub StartedAt: 2025-03-31 23:22:55 -0400 (Mon, 31 Mar 2025) EndedAt: 2025-03-31 23:23:34 -0400 (Mon, 31 Mar 2025) EllapsedTime: 39.9 seconds RetCode: 0 Status: OK PackageFile: ExperimentHub_2.14.0.tar.gz PackageFileSize: 489 KiB