Package: ExperimentHub Version: 2.14.0 Command: rm -rf ExperimentHub.buildbin-libdir && mkdir ExperimentHub.buildbin-libdir && /Users/biocbuild/BBS/utils/build-universal.sh ExperimentHub_2.14.0.tar.gz /Library/Frameworks/R.framework/Resources/bin/R ExperimentHub.buildbin-libdir StartedAt: 2025-04-02 14:19:02 -0400 (Wed, 02 Apr 2025) EndedAt: 2025-04-02 14:19:21 -0400 (Wed, 02 Apr 2025) EllapsedTime: 18.3 seconds RetCode: 0 Status: OK PackageFile: ExperimentHub_2.14.0.tgz PackageFileSize: 421.1 KiB