Package: ExCluster Version: 1.24.0 Command: /home/biocbuild/R/R/bin/R CMD INSTALL ExCluster StartedAt: 2025-03-31 20:29:47 -0000 (Mon, 31 Mar 2025) EndedAt: 2025-03-31 20:30:26 -0000 (Mon, 31 Mar 2025) EllapsedTime: 39.3 seconds RetCode: 0 Status: OK