Package: ExCluster Version: 1.24.0 Command: /home/biocbuild/R/R/bin/R CMD build --keep-empty-dirs --no-resave-data ExCluster StartedAt: 2025-03-31 23:25:29 -0000 (Mon, 31 Mar 2025) EndedAt: 2025-03-31 23:26:19 -0000 (Mon, 31 Mar 2025) EllapsedTime: 50.0 seconds RetCode: 0 Status: OK PackageFile: ExCluster_1.24.0.tar.gz PackageFileSize: 397.9 KiB