Package: EventPointer Version: 3.14.0 Command: /Library/Frameworks/R.framework/Resources/bin/R CMD INSTALL EventPointer StartedAt: 2025-01-27 16:28:45 -0500 (Mon, 27 Jan 2025) EndedAt: 2025-01-27 16:30:37 -0500 (Mon, 27 Jan 2025) EllapsedTime: 112.3 seconds RetCode: 0 Status: OK