Package: EventPointer Version: 3.14.0 Command: /Library/Frameworks/R.framework/Resources/bin/R CMD build --keep-empty-dirs --no-resave-data EventPointer StartedAt: 2025-03-31 23:21:23 -0400 (Mon, 31 Mar 2025) EndedAt: 2025-03-31 23:22:55 -0400 (Mon, 31 Mar 2025) EllapsedTime: 91.3 seconds RetCode: 0 Status: OK PackageFile: EventPointer_3.14.0.tar.gz PackageFileSize: 1.642 MiB