Package: EpipwR Version: 1.0.0 Command: rm -rf EpipwR.buildbin-libdir && mkdir EpipwR.buildbin-libdir && /Users/biocbuild/BBS/utils/build-universal.sh EpipwR_1.0.0.tar.gz /Library/Frameworks/R.framework/Resources/bin/R EpipwR.buildbin-libdir StartedAt: 2025-02-01 14:49:48 -0500 (Sat, 01 Feb 2025) EndedAt: 2025-02-01 14:50:07 -0500 (Sat, 01 Feb 2025) EllapsedTime: 19.1 seconds RetCode: 0 Status: OK PackageFile: EpipwR_1.0.0.tgz PackageFileSize: 114.5 KiB